BEGIN:VCALENDAR
VERSION:2.0
PRODID:-//eventon.com NONSGML v1.0//EN
CALSCALE:GREGORIAN
METHOD:PUBLISH
BEGIN:VEVENT
UID:69e61cb18bb0d
DTSTAMP:20260420T123145Z
DTSTART:20230517T070200Z
DTEND:20230517T215000Z
LOCATION:Online
SUMMARY:Online-Sprechstunde Solarthermie
DESCRIPTION:Wenn demnächst die von der Bundesregierung geplante Pflicht zu
  einer kommunalen Wärmeplanung kommt\,  können solare Wärmenetze eine wi
 chtige Rolle übernehmen. Das Difu berät Kommunen in dem neuen Veranstaltu
 ngsformat einer 90-minütigen kostenlosen Online-Sprechstunde. Alle Interes
 sent:innen haben die Möglichkeit\,  Fragen an den Experten Dirk Mangold\, 
  Leiter des Steinbeis-Instituts Solites\,  zu stellen. Beispielsweise[..]\n
 https://www.solarserver.de/veranstaltung/online-sprechstunde-solarthermie/
URL:https://www.solarserver.de/veranstaltung/online-sprechstunde-solarthermie/
END:VEVENT
END:VCALENDAR