BEGIN:VCALENDAR
VERSION:2.0
PRODID:-//eventon.com NONSGML v1.0//EN
CALSCALE:GREGORIAN
METHOD:PUBLISH
BEGIN:VEVENT
UID:69ebb452383f8
DTSTAMP:20260424T182002Z
DTSTART:20260519T170500Z
DTEND:20260521T083200Z
LOCATION:Lokschuppen Marburg Rudolf-Bultmann-Str. 4h 35039 Marburg
SUMMARY:Symposium Zukunft Wärme
DESCRIPTION:Das Symposium Zukunft Wärme ist die zentrale Plattform für in
 novative Wärmesysteme in Deutschland – mit über 35 Jahren Erfahrung\,  
 neuem thematischem Fokus und starkem Praxisbezug.\nhttps://www.solarserver.
 de/veranstaltung/symposium-zukunft-waerme/
URL:https://www.solarserver.de/veranstaltung/symposium-zukunft-waerme/
END:VEVENT
END:VCALENDAR