BEGIN:VCALENDAR
VERSION:2.0
PRODID:-//eventon.com NONSGML v1.0//EN
CALSCALE:GREGORIAN
METHOD:PUBLISH
BEGIN:VEVENT
UID:69e79f51a9ef7
DTSTAMP:20260421T160121Z
DTSTART:20260423T121700Z
DTEND:20260423T215900Z
LOCATION:
SUMMARY:Schon voll geladen?
DESCRIPTION:Sie wünschen sich eine thematische Einführung zu BESS? Inform
 ieren Sie sich zu den wichtigsten Basics in Kürze in unserem Online-Intens
 ivkurs: Marktüberblick\,  Geschäftsmodelle\,  Regularien und Co. – oder
  nehmen Sie bei Wunsch auch alternativ live vor Ort in Berlin teil. Wir geb
 en Ihnen einen ersten Überblick.\nhttps://www.solarserver.de/veranstaltung
 /schon-voll-geladen/
URL:https://www.solarserver.de/veranstaltung/schon-voll-geladen/
END:VEVENT
END:VCALENDAR