BEGIN:VCALENDAR
VERSION:2.0
PRODID:-//eventon.com NONSGML v1.0//EN
CALSCALE:GREGORIAN
METHOD:PUBLISH
BEGIN:VEVENT
UID:69ecdcbd295ec
DTSTAMP:20260425T152445Z
DTSTART:20230123T125200Z
DTEND:20230124T125200Z
LOCATION:CityCube Berlin Messedamm 26\,  14055 Berlin
SUMMARY:Kraftstoffe der Zukunft
DESCRIPTION:\nhttps://www.solarserver.de/veranstaltung/kraftstoffe-der-zuku
 nft/
URL:https://www.solarserver.de/veranstaltung/kraftstoffe-der-zukunft/
END:VEVENT
END:VCALENDAR